BEGIN:VCALENDAR
METHOD:PUBLISH
PRODID:-//www.admidio.org//Admidio3.1.7//DE
VERSION:2.0
X-WR-TIMEZONE:Europe/Berlin
BEGIN:VTIMEZONE
TZID:Europe/Berlin
X-LIC-LOCATION:Europe/Berlin
BEGIN:STANDARD
DTSTART:19701025T030000
TZOFFSETFROM:+0200
TZOFFSETTO:+0100
TZNAME:CET
RRULE:FREQ=YEARLY;BYDAY=-1SU;BYMONTH=10
END:STANDARD
BEGIN:DAYLIGHT
DTSTART:19700329T020000
TZOFFSETFROM:+0100
TZOFFSETTO:+0200
TZNAME:CEST
RRULE:FREQ=YEARLY;BYDAY=-1SU;BYMONTH=3
END:DAYLIGHT
END:VTIMEZONE
BEGIN:VEVENT
CREATED:20221019T110511
LAST-MODIFIED:T
UID:221019CEST110511+8@verwaltung.st-nicolai-bothfeld.de
SUMMARY:Plattdüütsch Klöönstuuv
DESCRIPTION:
DTSTAMP:20260421T075700
LOCATION:Gemeindehaus, Roter Raum
DTSTART;TZID=Europe/Berlin:20221020T170000
DTEND;TZID=Europe/Berlin:20221020T183000
END:VEVENT
END:VCALENDAR