BEGIN:VCALENDAR
METHOD:PUBLISH
PRODID:-//www.admidio.org//Admidio3.1.7//DE
VERSION:2.0
X-WR-TIMEZONE:Europe/Berlin
BEGIN:VTIMEZONE
TZID:Europe/Berlin
X-LIC-LOCATION:Europe/Berlin
BEGIN:STANDARD
DTSTART:19701025T030000
TZOFFSETFROM:+0200
TZOFFSETTO:+0100
TZNAME:CET
RRULE:FREQ=YEARLY;BYDAY=-1SU;BYMONTH=10
END:STANDARD
BEGIN:DAYLIGHT
DTSTART:19700329T020000
TZOFFSETFROM:+0100
TZOFFSETTO:+0200
TZNAME:CEST
RRULE:FREQ=YEARLY;BYDAY=-1SU;BYMONTH=3
END:DAYLIGHT
END:VTIMEZONE
BEGIN:VEVENT
CREATED:20241011T140353
LAST-MODIFIED:20260424T092624
UID:241011CEST020353+8@verwaltung.st-nicolai-bothfeld.de
SUMMARY:Konfirmationsgottesdienst mit Pn. Dr. Treutler
DESCRIPTION:Konfirmations-Gottesdienst am Sonntag Kantate (Gruppe Dr. Treutler) mit Solotrompetemit Pastorin Dr. TreutlerMusikalische Gestaltung: Herr Heßbrüggen (Orgel und Klavier), Herr Grüne (Solotrompete)Kirchenvorstand: Herr Matthey (Frau Lindhammer, Frau von Collande)Kollektenzweck: Kinder- und Jugendarbeit in St. Nicolai
DTSTAMP:20260424T152526
LOCATION:Kirche, Sutelstr. 19, 30659 Hannover
DTSTART;TZID=Europe/Berlin:20260503T100000
DTEND;TZID=Europe/Berlin:20260503T120000
END:VEVENT
END:VCALENDAR