BEGIN:VCALENDAR
METHOD:PUBLISH
PRODID:-//www.admidio.org//Admidio3.1.7//DE
VERSION:2.0
X-WR-TIMEZONE:Europe/Berlin
BEGIN:VTIMEZONE
TZID:Europe/Berlin
X-LIC-LOCATION:Europe/Berlin
BEGIN:STANDARD
DTSTART:19701025T030000
TZOFFSETFROM:+0200
TZOFFSETTO:+0100
TZNAME:CET
RRULE:FREQ=YEARLY;BYDAY=-1SU;BYMONTH=10
END:STANDARD
BEGIN:DAYLIGHT
DTSTART:19700329T020000
TZOFFSETFROM:+0100
TZOFFSETTO:+0200
TZNAME:CEST
RRULE:FREQ=YEARLY;BYDAY=-1SU;BYMONTH=3
END:DAYLIGHT
END:VTIMEZONE
BEGIN:VEVENT
CREATED:20241104T134508
LAST-MODIFIED:T
UID:241104CET014508+8@verwaltung.st-nicolai-bothfeld.de
SUMMARY:Weihnachtskonzert des MGV Concordia
DESCRIPTION:Der Gemischte Chor des MGV-Hannover-Bothfeld lädt am Samstag, d. 21.12.2024 um 17:00 Uhr zu seinem Weihnachtskonzert in die St. Nicolai-Kirche, Sutelstr. 19 ein.Einlass ab 16:30 Uhr.Der Eintritt ist frei. Am Ausgang wird um eine Spende zur Kostendeckung gebeten.Mitwirkende: Gemischter Chor des MGV Concordia Hannover-Bothfeld von 1875 und der Kalinka-Chor aus Neustadt am Rgb.
DTSTAMP:20260424T011148
LOCATION:Kirche, Sutelstr. 19, Hannover
DTSTART;TZID=Europe/Berlin:20241221T170000
DTEND;TZID=Europe/Berlin:20241221T183000
END:VEVENT
END:VCALENDAR